Workbook

Sheet Summary Scores
A1: WASHCon Scores
A3: HCF SCORE | C3: =AVERAGE('Scoring Metric'!H2:H104) -> #DIV/0!
A4: Water | B4: =AVERAGE('Scoring Metric'!G2:G17) -> #DIV/0!
C5: Source & Access | D5: =AVERAGE('Scoring Metric'!F2:F13) -> #DIV/0!
C6: Quantity | D6: =AVERAGE('Scoring Metric'!F14:F16) -> 0
C7: Quality | D7: =VALUE('Scoring Metric'!F17) -> 0
A8: Sanitation | B8: =VALUE('Scoring Metric'!H18) -> #DIV/0!
C9: Accessibility | D9: =AVERAGE('Scoring Metric'!F18:F45) -> #DIV/0!
C10: Quantity | D10: =AVERAGE('Scoring Metric'!F46:F55) -> #DIV/0!
C11: Infrastructure | D11: =AVERAGE('Scoring Metric'!F56:F61) -> #DIV/0!
A12: Hand Hygiene | B12: =VALUE('Scoring Metric'!H62) -> #DIV/0!
A13: Environmental Cleanliness | B13: =VALUE('Scoring Metric'!H72) -> #DIV/0!
C14: Equipment & Supplies | D14: =AVERAGE('Scoring Metric'!F72:F77) -> #DIV/0!
C15: Facility Hygiene | D15: =AVERAGE('Scoring Metric'!F78:F96) -> #DIV/0!
A16: Waste Management | B16: =VALUE('Scoring Metric'!H97) -> #DIV/0!
C17: Segregation | D17: =AVERAGE('Scoring Metric'!F97:F102) -> #DIV/0!
C18: Treatment & Disposal | D18: =AVERAGE('Scoring Metric'!F103:F104) -> 0

Sheet Scoring Metric
A1: Domain | B1: Subdomain | C1: Question | D1: Survey | E1: Survey Score | F1: Question Score | G1: Sub-Domain Score | H1: Domain Score
A2: Water Supply | B2: Source & Access | C2: Is a functional improved water source available on premises? | D2: Director Survey: What is the main source of water? | F2: =AVERAGE(E2:E3) -> #DIV/0! | G2: =AVERAGE(F2:F13) -> #DIV/0! | H2: =AVERAGE(G2:G17) -> #DIV/0!
D3: Director Survey: Where is the main source located?
C4: Is an alternative water source available? | D4: Sanitary Inspection: Is an alternative water source available? | F4: =E4 -> 0
C5: Is water accessible to all users at all times? | D5: Director Survey: Is water accessible to all users at all times? | F5: =E5 -> 0
C6: Is water piped into the wards? | D6: Ward: Is water piped into this ward? | F6: =AVERAGE(E6:E13) -> #DIV/0!
D7: Ward: Is water piped into this ward?
D8: Ward: Is water piped into this ward?
D9: Ward: Is water piped into this ward?
D10: Ward: Is water piped into this ward?
D11: Ward: Is water piped into this ward?
D12: Ward: Is water piped into this ward?
D13: Ward: Is water piped into this ward?
B14: Quantity | C14: Is water available from the main source at the time of the survey? | D14: Sanitary Inspection: Is water available from the main source at the time of the survey? | F14: =E14 -> 0 | G14: =AVERAGE(F14:F16) -> 0
C15: How often is the main water source unavailable? | D15: Directory Survery: Are there times when the main water source is unavailable?/How often is the main water supply unavailable? | F15: =E15 -> 0
C16: Is there routinely a time of year when the facility has a severe shortage or lack of water? | D16: Directory Survey: Is there routinely a time of year when the healthcare facility has severe shortage or lack of water? | F16: =E16 -> 0
B17: Quality | C17: Does water meet microbial guidelines? | D17: Water Quality - Aggregate: Does the water quality meet WHO microbial water quality guidelines? | F17: =E17 -> 0 | G17: =F17 -> 0
A18: Sanitation Facilities | B18: Accessibility | C18: Are there separate toilets for men and women on the premises? | D18: Toilet Survey: What gender has access to this toilet block? | F18: =E18 -> 0 | G18: =AVERAGE(F18:F45) -> #DIV/0! | H18: =AVERAGE(G18:G61) -> #DIV/0!
C19: Do toilet blocks meet the needs of people with reduced mobility? | D19: Toilet Survey: Is there at least one usable improved toilet that meets the needs of people with reduced mobility? | F19: =E19 -> 0
C20: Do toilet blocks provide facilities to manage menstrual hygiene? | D20: Toilet Survey: Is there at least one usable improved toilet designated for women and girls, which provides facilities to manage menstrual hygiene needs? | F20: =E20 -> 0
C21: Are toilet blocks hygienic? (clean and free of flies, smells) | D21: Toilet Survey: Is the toilet block visibly clean, with no presence of feces, blood or bodily substances? | F21: =AVERAGE(E21:E35) -> #DIV/0!
D22: Toilet Survey: Is the toilet block visibly clean, with no presence of feces, blood or bodily substances?
D23: Toilet Survey: Is the toilet block visibly clean, with no presence of feces, blood or bodily substances?
D24: Toilet Survey: Is the toilet block visibly clean, with no presence of feces, blood or bodily substances?
D25: Toilet Survey: Is the toilet block visibly clean, with no presence of feces, blood or bodily substances?
D26: Toilet Survey: Is there an unpleasant smell (of urine or feces) on the block?
D27: Toilet Survey: Is there an unpleasant smell (of urine or feces) on the block?
D28: Toilet Survey: Is there an unpleasant smell (of urine or feces) on the block?
D29: Toilet Survey: Is there an unpleasant smell (of urine or feces) on the block?
D30: Toilet Survey: Is there an unpleasant smell (of urine or feces) on the block?
D31: Toilet Survey: How many usable improved toilets have flies?
D32: Toilet Survey: How many usable improved toilets have flies?
D33: Toilet Survey: How many usable improved toilets have flies?
... D35: Toilet Survey: How many usable improved toilets have flies?
C36: Are toilet blocks safe? (have doors, lights) | D36: Toilet Survey: Do the toilet blocks have adequate light, including at night? | F36: =AVERAGE(E36:E45) -> #DIV/0!
D37: Toilet Survey: Do the toilet blocks have adequate light, including at night?
D38: Toilet Survey: Do the toilet blocks have adequate light, including at night?
D39: Toilet Survey: Do the toilet blocks have adequate light, including at night?
D40: Toilet Survey: Do the toilet blocks have adequate light, including at night?
D41: Toilet Survey: How many usable improved toilets have doors?
...

Sheet Question Scores
A1: Question/Response | B1: Survey Form | C1: Score
A2: What is the main water source for the healthcare facility? | B2: Director
A3: Piped supply from outside the facility | C3: 3
A4: Tube well | C4: 3
A5: Borehole | C5: 3
A6: Protected dug well | C6: 3
A7: Protected spring | C7: 3
A8: Rain Water | C8: 3
A9: Unprotected dug well | C9: 1
A10: Surface water | C10: 1
A11: Tanker truck | C11: 1
A12: Other | C12: 1
A13: Don't know | C13: .
A14: No water source | C14: 1
A16: Where is the main water source for the facility? | B16: Director
A17: On premises | C17: 3
A18: Off premises, within 500m | C18: 2
A19: Off premises, farther than 500m | C19: 1
A20: No water source | C20: 1
A21: Don't know | C21: .
A23: Is an alternative water source available? | B23: Sanitary Inspection
A24: Yes, and the alternative source is improved. | C24: 3
A25: Yes, but the alternative source is unimproved. | C25: 2
A26: Have alternative source but is unavailable | C26: 1
A27: No alternative water source | C27: 1
A28: Don't know | C28: .
A30: Is water accessible to all users at all times? | B30: Director
A31: Yes | C31: 3
A32: No, patients/caregivers do not have access at times | C32: 1
A33: No, staff do not have access at times | C33: 1
A34: No, both staff and patients/caregivers do not have access at times | C34: 1
A35: Don't know | C35: .
A37: Is water piped into this ward? | B37: Ward
A38: Yes | C38: 3
A39: Yes, but currently unavailable | C39: 2
A40: No | C40: 1
A41: Didn't observe | C41: .
A43: Is water available from the main source at the time of the survey? | B43: Sanitary Inspection
A44: Yes | C44: 3
A45: No | C45: 1
...
