Workbook

Sheet Summary Scores
A1: WASHCon Scores
A3: HCF SCORE | C3: =AVERAGE('Scoring Metric'!H2:H104) -> #DIV/0!
A4: Water | B4: =AVERAGE('Scoring Metric'!G2:G17) -> #DIV/0!
C5: Source & Access | D5: =AVERAGE('Scoring Metric'!F2:F13) -> #DIV/0!
C6: Quantity | D6: =AVERAGE('Scoring Metric'!F14:F16) -> 0
C7: Quality | D7: =VALUE('Scoring Metric'!F17) -> 0
A8: Sanitation | B8: =VALUE('Scoring Metric'!H18) -> #DIV/0!
C9: Accessibility | D9: =AVERAGE('Scoring Metric'!F18:F45) -> #DIV/0!
C10: Quantity | D10: =AVERAGE('Scoring Metric'!F46:F55) -> #DIV/0!
C11: Infrastructure | D11: =AVERAGE('Scoring Metric'!F56:F61) -> #DIV/0!
A12: Hand Hygiene | B12: =VALUE('Scoring Metric'!H62) -> #DIV/0!
A13: Environmental Cleanliness | B13: =VALUE('Scoring Metric'!H72) -> #DIV/0!
C14: Equipment & Supplies | D14: =AVERAGE('Scoring Metric'!F72:F77) -> #DIV/0!
C15: Facility Hygiene | D15: =AVERAGE('Scoring Metric'!F78:F96) -> #DIV/0!
A16: Waste Management | B16: =VALUE('Scoring Metric'!H97) -> #DIV/0!
C17: Segregation | D17: =AVERAGE('Scoring Metric'!F97:F102) -> #DIV/0!
C18: Treatment & Disposal | D18: =AVERAGE('Scoring Metric'!F103:F104) -> 0

Sheet Scoring Metric
A1: Domain | B1: Subdomain | C1: Question | D1: Survey | E1: Survey Score | F1: Question Score | G1: Sub-Domain Score | H1: Domain Score
A2: Water Supply | B2: Source & Access | C2: Is a functional improved water source available on premises? | D2: Director Survey: What is the main source of water? | F2: =AVERAGE(E2:E3) -> #DIV/0! | G2: =AVERAGE(F2:F13) -> #DIV/0! | H2: =AVERAGE(G2:G17) -> #DIV/0!
D3: Director Survey: Where is the main source located?
C4: Is an alternative water source available? | D4: Sanitary Inspection: Is an alternative water source available? | F4: =E4 -> 0
C5: Is water accessible to all users at all times? | D5: Director Survey: Is water accessible to all users at all times? | F5: =E5 -> 0
C6: Is water piped into the wards? | D6: Ward: Is water piped into this ward? | F6: =AVERAGE(E6:E13) -> #DIV/0!
D7: Ward: Is water piped into this ward?
D8: Ward: Is water piped into this ward?
D9: Ward: Is water piped into this ward?
D10: Ward: Is water piped into this ward?
D11: Ward: Is water piped into this ward?
D12: Ward: Is water piped into this ward?
D13: Ward: Is water piped into this ward?
B14: Quantity | C14: Is water available from the main source at the time of the survey? | D14: Sanitary Inspection: Is water available from the main source at the time of the survey? | F14: =E14 -> 0 | G14: =AVERAGE(F14:F16) -> 0
C15: How often is the main water source unavailable? | D15: Directory Survery: Are there times when the main water source is unavailable?/How often is the main water supply unavailable? | F15: =E15 -> 0
C16: Is there routinely a time of year when the facility has a severe shortage or lack of water? | D16: Directory Survey: Is there routinely a time of year when the healthcare facility has severe shortage or lack of water? | F16: =E16 -> 0
B17: Quality | C17: Does water meet microbial guidelines? | D17: Water Quality - Aggregate: Does the water quality meet WHO microbial water quality guidelines? | F17: =E17 -> 0 | G17: =F17 -> 0
A18: Sanitation Facilities | B18: Accessibility | C18: Are there separate toilets for men and women on the premises? | D18: Toilet Survey: What gender has access to this toilet block? | F18: =E18 -> 0 | G18: =AVERAGE(F18:F45) -> #DIV/0! | H18: =AVERAGE(G18:G61) -> #DIV/0!
C19: Do toilet blocks meet the needs of people with reduced mobility? | D19: Toilet Survey: Is there at least one usable improved toilet that meets the needs of people with reduced mobility? | F19: =E19 -> 0
C20: Do toilet blocks provide facilities to manage menstrual hygiene? | D20: Toilet Survey: Is there at least one usable improved toilet designated for women and girls, which provides facilities to manage menstrual hygiene needs? | F20: =E20 -> 0
C21: Are toilet blocks hygienic? (clean and free of flies, smells) | D21: Toilet Survey: Is the toilet block visibly clean, with no presence of feces, blood or bodily substances? | F21: =AVERAGE(E21:E35) -> #DIV/0!
D22: Toilet Survey: Is the toilet block visibly clean, with no presence of feces, blood or bodily substances?
D23: Toilet Survey: Is the toilet block visibly clean, with no presence of feces, blood or bodily substances?
D24: Toilet Survey: Is the toilet block visibly clean, with no presence of feces, blood or bodily substances?
D25: Toilet Survey: Is the toilet block visibly clean, with no presence of feces, blood or bodily substances?
D26: Toilet Survey: Is there an unpleasant smell (of urine or feces) on the block?
D27: Toilet Survey: Is there an unpleasant smell (of urine or feces) on the block?
D28: Toilet Survey: Is there an unpleasant smell (of urine or feces) on the block?
D29: Toilet Survey: Is there an unpleasant smell (of urine or feces) on the block?
D30: Toilet Survey: Is there an unpleasant smell (of urine or feces) on the block?
D31: Toilet Survey: How many usable improved toilets have flies?
D32: Toilet Survey: How many usable improved toilets have flies?
D33: Toilet Survey: How many usable improved toilets have flies?
... D35: Toilet Survey: How many usable improved toilets have flies?
C36: Are toilet blocks safe? (have doors, lights) | D36: Toilet Survey: Do the toilet blocks have adequate light, including at night? | F36: =AVERAGE(E36:E45) -> #DIV/0!
D37: Toilet Survey: Do the toilet blocks have adequate light, including at night?
D38: Toilet Survey: Do the toilet blocks have adequate light, including at night?
D39: Toilet Survey: Do the toilet blocks have adequate light, including at night?
D40: Toilet Survey: Do the toilet blocks have adequate light, including at night?
D41: Toilet Survey: How many usable improved toilets have doors?
D42: Toilet Survey: How many usable improved toilets have doors?
D43: Toilet Survey: How many usable improved toilets have doors?
D44: Toilet Survey: How many usable improved toilets have doors?
D45: Toilet Survey: How many usable improved toilets have doors?
B46: Quantity | C46: For every 20 patients, is there at least one usable improved toilet? | D46: Admin Form: On an average day, how many inpatients are at the healthcare facility? | F46: =AVERAGE(E46:E54) -> #DIV/0! | G46: =AVERAGE(F46:F55) -> #DIV/0!
D47: Admin Form: On average, how many outpatients are seen per month?
D48: Admin Form: How many days in a month are outpatients seen?
D49: Toilet Form: How many usable improved toilets are available to patients?
D50: Toilet Form: How many usable improved toilets are available to patients?
D51: Toilet Form: How many usable improved toilets are available to patients?
D52: Toilet Form: How many usable improved toilets are available to patients?
D53: Toilet Form: How many usable improved toilets are available to patients?
D54: Toilet Form: How many usable improved toilets are available to patients?
C55: Is there at least one usable improved toilet designated for staff use? | D55: Who uses this toilet block? | F55: =E55 -> 0
B56: Infrastructure | C56: Are there improved toilets on premises? | D56: Toilet Form: What type of toilet(s) can be found in this block? | F56: =AVERAGE(E56:E61) -> #DIV/0! | G56: =AVERAGE(F56:F61) -> #DIV/0!
D57: Toilet Form: What type of toilet(s) can be found in this block?
D58: Toilet Form: What type of toilet(s) can be found in this block?
D59: Toilet Form: What type of toilet(s) can be found in this block?
D60: Toilet Form: What type of toilet(s) can be found in this block?
C61: Is fecal waste from toilets safely managed? | D61: Director Survey: Is fecal waste from toilets safely managed? | F61: =E61 -> 0
A62: Hand Hygiene Facilities | B62: No Subdomains | C62: Do toilet blocks have a functioning hand hygiene facility within 5 meters? | D62: Toilet Form: Observe a functioning hand hygiene facility within 5 meters of the toilet block and select the available hand hygiene materials. | F62: =AVERAGE(E62:E66) -> #DIV/0! | G62: N/A | H62: =AVERAGE(F62:F71) -> #DIV/0!
D63: Toilet Form: Observe a functioning hand hygiene facility within 5 meters of the toilet block and select the available hand hygiene materials.
D64: Toilet Form: Observe a functioning hand hygiene facility within 5 meters of the toilet block and select the available hand hygiene materials.
D65: Toilet Form: Observe a functioning hand hygiene facility within 5 meters of the toilet block and select the available hand hygiene materials.
D66: Toilet Form: Observe a functioning hand hygiene facility within 5 meters of the toilet block and select the available hand hygiene materials.
C67: Do key patient care area/food prep area have a functioning hand hygiene facility? | D67: Ward Form: Observe a functional hand hygiene facility at the point of care and select the available hand hygiene materials. | F67: =AVERAGE(E67:E71) -> #DIV/0!
D68: Ward Form: Observe a functional hand hygiene facility at the point of care and select the available hand hygiene materials.
D69: Ward Form: Observe a functional hand hygiene facility at the point of care and select the available hand hygiene materials.
D70: Ward Form: Observe a functional hand hygiene facility at the point of care and select the available hand hygiene materials.
D71: Ward Form: Observe a functional hand hygiene facility at the point of care and select the available hand hygiene materials.
A72: Environmental Cleanliness | B72: Equipment and Supplies | C72: Are key resources/supplies used for infection control available in key wards? | D72: Ward Form: Observe if the following resources/supplies used for infection control are available today in the ward: | F72: =AVERAGE(E72:E77) -> #DIV/0! | G72: =F72 -> #DIV/0! | H72: =AVERAGE(G72:G96) -> #DIV/0!
D73: Ward Form: Observe if the following resources/supplies used for infection control are available today in the ward:
D74: Ward Form: Observe if the following resources/supplies used for infection control are available today in the ward:
D75: Ward Form: Observe if the following resources/supplies used for infection control are available today in the ward:
D76: Ward Form: Observe if the following resources/supplies used for infection control are available today in the ward:
D77: Ward Form: Observe if the following resources/supplies used for infection control are available today in the Labor and Delivery ward:
B78: Facility Hygiene | C78: Are wards clean of dust, soil, and bodily fluids? | D78: Ward Form: Is the ward visibly clean and free from dust and soil? | F78: =AVERAGE(E78:E92) -> #DIV/0! | G78: =AVERAGE(F78:F96) -> #DIV/0!
D79: Ward Form: Is the ward visibly clean and free from dust and soil?
D80: Ward Form: Is the ward visibly clean and free from dust and soil?
D81: Ward Form: Is the ward visibly clean and free from dust and soil?
D82: Ward Form: Is the ward visibly clean and free from dust and soil?
D83: Ward Form: Are there uncleaned spills from bodily fluids (blood, urine, feces, vomit, etc.)?
D84: Ward Form: Are there uncleaned spills from bodily fluids (blood, urine, feces, vomit, etc.)?
D85: Ward Form: Are there uncleaned spills from bodily fluids (blood, urine, feces, vomit, etc.)?
D86: Ward Form: Are there uncleaned spills from bodily fluids (blood, urine, feces, vomit, etc.)?
D87: Ward Form: Are there uncleaned spills from bodily fluids (blood, urine, feces, vomit, etc.)?
D88: Ward Form: Are the floors clean?
D89: Ward Form: Are the floors clean?
D90: Ward Form: Are the floors clean?
... D92: Ward Form: Are the floors clean?
C93: Are beds, mattresses, pillows and/or mats cleaned between patients? | D93: Director Survey: Are beds, mattresses, pillows and/or mats cleaned between patients? | F93: =E93 -> 0
C94: Are feces uncontained on facility premises? | D94: Sanitary Inspection: Is open defecation practiced at this healthcare facility? | F94: =AVERAGE(E94:E95) -> #DIV/0!
D95: Sanitary Inspection: Are feces from babies uncontained?
C96: Is there uncontained solid waste on facility premises? | D96: Sanitary Inspection: Is there uncontained solid waste on facility premises? | F96: =E96 -> 0
A97: Waste Management | B97: Segregation | C97: Are fenced and protected areas available for the storage of waste awaiting disposal or removal? | D97: Director Survey: Are fenced and protected areas available for the storage of waste awaiting disposal or removal? | F97: =E97 -> 0 | G97: =AVERAGE(F97:F102) -> #DIV/0! | H97: =AVERAGE(G97:G104) -> #DIV/0!
C98: Is waste safely segregated into at least three labeled bins, including sharps waste, infectious waste and non-infectious general waste? | D98: Ward Form: Is waste safely segregated into at least three labeled bins, including sharps waste, infectious waste and non-infectious general waste? | F98: =AVERAGE(E98:E102) -> #DIV/0!
D99: Ward Form: Is waste safely segregated into at least three labeled bins, including sharps waste, infectious waste and non-infectious general waste?
D100: Ward Form: Is waste safely segregated into at least three labeled bins, including sharps waste, infectious waste and non-infectious general waste?
D101: Ward Form: Is waste safely segregated into at least three labeled bins, including sharps waste, infectious waste and non-infectious general waste?
D102: Ward Form: Is waste safely segregated into at least three labeled bins, including sharps waste, infectious waste and non-infectious general waste?
...

Sheet Question Scores
A1: Question/Response | B1: Survey Form | C1: Score
A2: What is the main water source for the healthcare facility? | B2: Director
A3: Piped supply from outside the facility | C3: 3
A4: Tube well | C4: 3
A5: Borehole | C5: 3
A6: Protected dug well | C6: 3
A7: Protected spring | C7: 3
A8: Rain Water | C8: 3
A9: Unprotected dug well | C9: 1
A10: Surface water | C10: 1
A11: Tanker truck | C11: 1
A12: Other | C12: 1
A13: Don't know | C13: .
A14: No water source | C14: 1
A16: Where is the main water source for the facility? | B16: Director
A17: On premises | C17: 3
A18: Off premises, within 500m | C18: 2
A19: Off premises, farther than 500m | C19: 1
A20: No water source | C20: 1
A21: Don't know | C21: .
A23: Is an alternative water source available? | B23: Sanitary Inspection
A24: Yes, and the alternative source is improved. | C24: 3
A25: Yes, but the alternative source is unimproved. | C25: 2
A26: Have alternative source but is unavailable | C26: 1
A27: No alternative water source | C27: 1
A28: Don't know | C28: .
A30: Is water accessible to all users at all times? | B30: Director
A31: Yes | C31: 3
A32: No, patients/caregivers do not have access at times | C32: 1
A33: No, staff do not have access at times | C33: 1
A34: No, both staff and patients/caregivers do not have access at times | C34: 1
A35: Don't know | C35: .
A37: Is water piped into this ward? | B37: Ward
A38: Yes | C38: 3
A39: Yes, but currently unavailable | C39: 2
A40: No | C40: 1
A41: Didn't observe | C41: .
A43: Is water available from the main source at the time of the survey? | B43: Sanitary Inspection
A44: Yes | C44: 3
A45: No | C45: 1
A46: Didn't observe | C46: .
A48: Are there times when the main water source is unavailable? | B48: Director
A49: Yes | C49: Score taken from next question
A50: No | C50: 3
A51: Don't know | C51: .
A53: How often is the main water supply unavailable? | B53: Director
A54: For part of the day, rarely | C54: 2
A55: For part of the day, frequently | C55: 1
A56: For part of the year (seasonal problem), frequently | C56: 1
A57: For part of the year (seasonal problem), rarely | C57: 2
A58: Don't know | C58: .
A60: Is there routinely a time of year when the healthcare facility has severe shortage or lack of water? | B60: Director
A61: Yes | C61: 1
A62: No | C62: 3
A63: Don't know | C63: .
A64: Skipped question | C64: 3
A66: Does the water quality meet WHO microbial water quality guidelines?
A67: Between 90- 100% of all samples met WHO guidelines for microbial water quality | B67: Water Quality - Aggregate | C67: 3
A68: Between 50-89% of all samples met WHO guidelines for microbial water quality | C68: 2
A69: Fewer than 50% of all samples met WHO guidelines for microbial water quality | C69: 1
A70: This question cannot be answered | C70: .
A72: What gender has access to this toilet block? | B72: Toilet
A73: Male | C73: 3
A74: Female | C74: 3
A75: Both male and female (unseparated) | C75: 1
A76: Both male and female, but seperated | C76: 3
A77: Didn't observe | C77: .
A78: Assess for all toilets and select highest score
A80: Is there at least one usable improved toilet that meets the needs of people with reduced mobility? | B80: Toilet
A81: Yes | C81: 3
A82: No | C82: 1
A83: Didn't observe | C83: .
A84: Assess for all toilets and select highest score
A86: Is there at least one usable improved toilet designated for women and girls, which provides facilities to manage menstrual hygiene needs? | B86: Toilet
A87: Yes | C87: 3
A88: No | C88: 1
A89: Didn't observe | C89: .
A90: Assess for all toilets and select highest score
A92: Is the toilet block visibly clean, with no presence of feces, blood or bodily substances? | B92: Toilet
A93: Yes | C93: 3
A94: No | C94: 1
A95: Didn't observe | C95: .
A97: Is there an unpleasant smell (of urine or feces) on the block? | B97: Toilet
A98: Yes | C98: 3
A99: No | C99: 1
A100: Didn't observe | C100: .
A102: How many usable improved toilets have flies? | B102: Toilet
A103: Yes | C103: 3
A104: No | C104: 1
A105: Didn't observe | C105: .
A107: On an average day, how many inpatients are at the healthcare facility? (Fill out below to calculate score to the right) | B107: Admin | D107: =(C107+(C108/C109))/SUM(C110:C117) -> #DIV/0!
A108: On average, how many outpatients are seen per month? | D108: SCORE
A109: How many days in a month are outpatients seen? | D109: < 20 | E109: 3
A110: How many usable improved toilets are available to patients? | D110: > 20 | E110: 1
A111: How many usable improved toilets are available to patients?
A112: How many usable improved toilets are available to patients?
A113: How many usable improved toilets are available to patients?
A114: How many usable improved toilets are available to patients?
A115: How many usable improved toilets are available to patients?
A116: How many usable improved toilets are available to patients?
...
